BEGIN:VCALENDAR
VERSION:2.0
PRODID:-//Plone.org//NONSGML plone.app.event//EN
X-WR-TIMEZONE:US/Eastern
BEGIN:VEVENT
SUMMARY:Messy Play
DTSTART;TZID=US/Eastern:20260528T110000
DTEND;TZID=US/Eastern:20260528T120000
DTSTAMP:20260423T202220Z
UID:9f3730206f41427c89f23ca3d365b11e@saas_stack_varnish:6080
RRULE:FREQ=MONTHLY;COUNT=12;BYDAY=+4TH
CONTACT:Janice Jones\, 269-435-7957
CREATED:20260121T184442Z
LAST-MODIFIED:20260121T184520Z
LOCATION:Constantine Township Library
URL:https://www.constantine.michlibrary.org/news-events/messy-play
END:VEVENT
BEGIN:VEVENT
SUMMARY:Spanning History: Bridges to Michigan's Past
DTSTART;TZID=US/Eastern:20260423T180000
DTEND;TZID=US/Eastern:20260423T190000
DTSTAMP:20260423T202220Z
UID:ce3883d87f314682985af4741b097adf@saas_stack_varnish:6080
ATTENDEE;CN=Adults;ROLE=REQ-PARTICIPANT:Adults
CONTACT:Janice Jones\, 2\, constantinetwplibrary@live.com
CREATED:20260312T194323Z
LAST-MODIFIED:20260312T194403Z
LOCATION:Constantine Township Library
URL:https://www.constantine.michlibrary.org/news-events/spanning-history-b
 ridges-to-michigans-past
END:VEVENT
BEGIN:VTIMEZONE
TZID:US/Eastern
X-LIC-LOCATION:US/Eastern
BEGIN:DAYLIGHT
DTSTART:20260308T030000
TZNAME:EDT
TZOFFSETFROM:-0500
TZOFFSETTO:-0400
END:DAYLIGHT
END:VTIMEZONE
END:VCALENDAR
